BEGIN:VCALENDAR
VERSION:2.0
PRODID:-//Le Molay-Littry - ECPv5.16.4.1//NONSGML v1.0//EN
CALSCALE:GREGORIAN
METHOD:PUBLISH
X-WR-CALNAME:Le Molay-Littry
X-ORIGINAL-URL:https://www.ville-molay-littry.fr
X-WR-CALDESC:Évènements pour Le Molay-Littry
BEGIN:VTIMEZONE
TZID:Europe/Paris
BEGIN:DAYLIGHT
TZOFFSETFROM:+0100
TZOFFSETTO:+0200
TZNAME:CEST
DTSTART:20250330T010000
END:DAYLIGHT
BEGIN:STANDARD
TZOFFSETFROM:+0200
TZOFFSETTO:+0100
TZNAME:CET
DTSTART:20251026T010000
END:STANDARD
END:VTIMEZONE
BEGIN:VEVENT
DTSTART;TZID=Europe/Paris:20250629T143000
DTEND;TZID=Europe/Paris:20250629T143000
DTSTAMP:20260422T083625
CREATED:20250605T153518Z
LAST-MODIFIED:20250605T153800Z
UID:32815-1751207400-1751207400@www.ville-molay-littry.fr
SUMMARY:Théâtre Les "Petits" Mine d'en rire
DESCRIPTION:
URL:https://www.ville-molay-littry.fr/evenement/theatre-les-petits-mine-den-rire/
LOCATION:salle des fêtes\, LE MOLAY LITTRY\, 14330
CATEGORIES:Associations,Spectacles
ATTACH;FMTTYPE=image/jpeg:https://www.ville-molay-littry.fr/wp-content/uploads/2025/06/Les-Petits-Mine-den-rire.jpg
END:VEVENT
END:VCALENDAR