BEGIN:VCALENDAR
VERSION:2.0
PRODID:-//Le Molay-Littry - ECPv5.16.4.1//NONSGML v1.0//EN
CALSCALE:GREGORIAN
METHOD:PUBLISH
X-WR-CALNAME:Le Molay-Littry
X-ORIGINAL-URL:https://www.ville-molay-littry.fr
X-WR-CALDESC:Évènements pour Le Molay-Littry
BEGIN:VTIMEZONE
TZID:Europe/Paris
BEGIN:DAYLIGHT
TZOFFSETFROM:+0100
TZOFFSETTO:+0200
TZNAME:CEST
DTSTART:20260329T010000
END:DAYLIGHT
BEGIN:STANDARD
TZOFFSETFROM:+0200
TZOFFSETTO:+0100
TZNAME:CET
DTSTART:20261025T010000
END:STANDARD
END:VTIMEZONE
BEGIN:VEVENT
DTSTART;VALUE=DATE:20260430
DTEND;VALUE=DATE:20260502
DTSTAMP:20260421T112051
CREATED:20260416T140845Z
LAST-MODIFIED:20260416T141007Z
UID:35445-1777507200-1777679999@www.ville-molay-littry.fr
SUMMARY:Théâtre
DESCRIPTION:
URL:https://www.ville-molay-littry.fr/evenement/theatre-5/
LOCATION:salle des fêtes\, LE MOLAY LITTRY\, 14330
CATEGORIES:Associations
ATTACH;FMTTYPE=image/png:https://www.ville-molay-littry.fr/wp-content/uploads/2025/12/LES-MINES-DEN-RIRE.png
END:VEVENT
END:VCALENDAR