BEGIN:VCALENDAR
VERSION:2.0
PRODID:-//Le Molay-Littry - ECPv5.16.4.1//NONSGML v1.0//EN
CALSCALE:GREGORIAN
METHOD:PUBLISH
X-WR-CALNAME:Le Molay-Littry
X-ORIGINAL-URL:https://www.ville-molay-littry.fr
X-WR-CALDESC:Évènements pour Le Molay-Littry
BEGIN:VTIMEZONE
TZID:Europe/Paris
BEGIN:DAYLIGHT
TZOFFSETFROM:+0100
TZOFFSETTO:+0200
TZNAME:CEST
DTSTART:20260329T010000
END:DAYLIGHT
BEGIN:STANDARD
TZOFFSETFROM:+0200
TZOFFSETTO:+0100
TZNAME:CET
DTSTART:20261025T010000
END:STANDARD
END:VTIMEZONE
BEGIN:VEVENT
DTSTART;TZID=Europe/Paris:20260206T203000
DTEND;TZID=Europe/Paris:20260206T203000
DTSTAMP:20260422T151829
CREATED:20251229T143208Z
LAST-MODIFIED:20251229T145930Z
UID:34504-1770409800-1770409800@www.ville-molay-littry.fr
SUMMARY:Spectacle musical
DESCRIPTION:Cliquez sur l’affiche ci-dessous
URL:https://www.ville-molay-littry.fr/evenement/spectacle-musical/
LOCATION:salle des fêtes\, LE MOLAY LITTRY\, 14330
CATEGORIES:Associations,Spectacles
ATTACH;FMTTYPE=image/png:https://www.ville-molay-littry.fr/wp-content/uploads/2025/12/LES-MINES-DEN-RIRE.png
END:VEVENT
END:VCALENDAR