BEGIN:VCALENDAR
VERSION:2.0
PRODID:-//Le Molay-Littry - ECPv5.16.4.1//NONSGML v1.0//EN
CALSCALE:GREGORIAN
METHOD:PUBLISH
X-WR-CALNAME:Le Molay-Littry
X-ORIGINAL-URL:https://www.ville-molay-littry.fr
X-WR-CALDESC:Évènements pour Le Molay-Littry
BEGIN:VTIMEZONE
TZID:Europe/Paris
BEGIN:DAYLIGHT
TZOFFSETFROM:+0100
TZOFFSETTO:+0200
TZNAME:CEST
DTSTART:20250330T010000
END:DAYLIGHT
BEGIN:STANDARD
TZOFFSETFROM:+0200
TZOFFSETTO:+0100
TZNAME:CET
DTSTART:20251026T010000
END:STANDARD
END:VTIMEZONE
BEGIN:VEVENT
DTSTART;TZID=Europe/Paris:20251126T143000
DTEND;TZID=Europe/Paris:20251126T163000
DTSTAMP:20260424T151148
CREATED:20251030T125425Z
LAST-MODIFIED:20251030T125441Z
UID:34043-1764167400-1764174600@www.ville-molay-littry.fr
SUMMARY:Seroc - Café des astucieux
DESCRIPTION:
URL:https://www.ville-molay-littry.fr/evenement/seroc-cafe-des-astucieux/
LOCATION:Médiathèque\, Le molay-Littry\, 14330\, France
ATTACH;FMTTYPE=image/webp:https://www.ville-molay-littry.fr/wp-content/uploads/2021/08/Seroc.webp
END:VEVENT
END:VCALENDAR