BEGIN:VCALENDAR
VERSION:2.0
PRODID:-//Le Molay-Littry - ECPv5.16.4.1//NONSGML v1.0//EN
CALSCALE:GREGORIAN
METHOD:PUBLISH
X-WR-CALNAME:Le Molay-Littry
X-ORIGINAL-URL:https://www.ville-molay-littry.fr
X-WR-CALDESC:Évènements pour Le Molay-Littry
BEGIN:VTIMEZONE
TZID:Europe/Paris
BEGIN:DAYLIGHT
TZOFFSETFROM:+0100
TZOFFSETTO:+0200
TZNAME:CEST
DTSTART:20250330T010000
END:DAYLIGHT
BEGIN:STANDARD
TZOFFSETFROM:+0200
TZOFFSETTO:+0100
TZNAME:CET
DTSTART:20251026T010000
END:STANDARD
END:VTIMEZONE
BEGIN:VEVENT
DTSTART;TZID=Europe/Paris:20251208T140000
DTEND;TZID=Europe/Paris:20251208T140000
DTSTAMP:20260424T132748
CREATED:20251030T151313Z
LAST-MODIFIED:20251030T151346Z
UID:34060-1765202400-1765202400@www.ville-molay-littry.fr
SUMMARY:Sensibilisation à la Cybersécurité
DESCRIPTION:Vous avez des doutes sur des SMS ou des mails ? \nVenez participer à l’atelier lundi 08 décembre à 14h à la Maison France Service. \nElyse vous donnera quelques conseils ! \nN’oubliez pas de vous inscrire \n \n  \n 
URL:https://www.ville-molay-littry.fr/evenement/sensibilisation-a-la-cybersecurite/
LOCATION:Maison France Services\, Annexe Mairie\, LE MOLAY-LTTRY\, 14330
ATTACH;FMTTYPE=image/png:https://www.ville-molay-littry.fr/wp-content/uploads/2021/06/Vignette_IsignyOmahaIntercom.png
END:VEVENT
END:VCALENDAR