BEGIN:VCALENDAR
VERSION:2.0
PRODID:-//Le Molay-Littry - ECPv5.16.4.1//NONSGML v1.0//EN
CALSCALE:GREGORIAN
METHOD:PUBLISH
X-WR-CALNAME:Le Molay-Littry
X-ORIGINAL-URL:https://www.ville-molay-littry.fr
X-WR-CALDESC:Évènements pour Le Molay-Littry
BEGIN:VTIMEZONE
TZID:Europe/Paris
BEGIN:DAYLIGHT
TZOFFSETFROM:+0100
TZOFFSETTO:+0200
TZNAME:CEST
DTSTART:20230326T010000
END:DAYLIGHT
BEGIN:STANDARD
TZOFFSETFROM:+0200
TZOFFSETTO:+0100
TZNAME:CET
DTSTART:20231029T010000
END:STANDARD
END:VTIMEZONE
BEGIN:VEVENT
DTSTART;TZID=Europe/Paris:20230911T190000
DTEND;TZID=Europe/Paris:20230911T203000
DTSTAMP:20260423T111136
CREATED:20230906T141041Z
LAST-MODIFIED:20230906T141159Z
UID:19021-1694458800-1694464200@www.ville-molay-littry.fr
SUMMARY:Reprise Yoga
DESCRIPTION:
URL:https://www.ville-molay-littry.fr/evenement/reprise-yoga/
LOCATION:Module
CATEGORIES:Associations,sport
ATTACH;FMTTYPE=image/png:https://www.ville-molay-littry.fr/wp-content/uploads/2019/09/vignette_yoga_molay_littry.png
ORGANIZER;CN="Krav%20Maga":MAILTO:kravmagalemolaylittry@gmail.com
END:VEVENT
END:VCALENDAR