BEGIN:VCALENDAR
VERSION:2.0
PRODID:-//Le Molay-Littry - ECPv5.16.4.1//NONSGML v1.0//EN
CALSCALE:GREGORIAN
METHOD:PUBLISH
X-WR-CALNAME:Le Molay-Littry
X-ORIGINAL-URL:https://www.ville-molay-littry.fr
X-WR-CALDESC:Évènements pour Le Molay-Littry
BEGIN:VTIMEZONE
TZID:Europe/Paris
BEGIN:DAYLIGHT
TZOFFSETFROM:+0100
TZOFFSETTO:+0200
TZNAME:CEST
DTSTART:20230326T010000
END:DAYLIGHT
BEGIN:STANDARD
TZOFFSETFROM:+0200
TZOFFSETTO:+0100
TZNAME:CET
DTSTART:20231029T010000
END:STANDARD
END:VTIMEZONE
BEGIN:VEVENT
DTSTART;TZID=Europe/Paris:20230808T183000
DTEND;TZID=Europe/Paris:20230808T183000
DTSTAMP:20260423T124653
CREATED:20230831T152640Z
LAST-MODIFIED:20230831T152640Z
UID:18987-1691519400-1691519400@www.ville-molay-littry.fr
SUMMARY:Rentrée Mollets Lystriens
DESCRIPTION:Les Mollets Lystriens : reprise de la saison 2022/2023 \nAdultes : le 08 septembre à 18h30 \nJeunes : le 09 septembre à 10h00 \nAu stade municipal \n 
URL:https://www.ville-molay-littry.fr/evenement/rentree-mollets-lystriens/
LOCATION:Stade Municipal\, Route de Tournières\, Le Molay-Littry\, calvados\, 14330\, France
CATEGORIES:Associations,sport
ATTACH;FMTTYPE=image/jpeg:https://www.ville-molay-littry.fr/wp-content/uploads/2021/08/vignette_course_a_pied.jpg
ORGANIZER;CN="Les%20Mollets%20Lystriens":MAILTO:daniel.marie15@wanadoo.fr
END:VEVENT
END:VCALENDAR