BEGIN:VCALENDAR
VERSION:2.0
PRODID:-//Le Molay-Littry - ECPv5.16.4.1//NONSGML v1.0//EN
CALSCALE:GREGORIAN
METHOD:PUBLISH
X-WR-CALNAME:Le Molay-Littry
X-ORIGINAL-URL:https://www.ville-molay-littry.fr
X-WR-CALDESC:Évènements pour Le Molay-Littry
BEGIN:VTIMEZONE
TZID:Europe/Paris
BEGIN:DAYLIGHT
TZOFFSETFROM:+0100
TZOFFSETTO:+0200
TZNAME:CEST
DTSTART:20250330T010000
END:DAYLIGHT
BEGIN:STANDARD
TZOFFSETFROM:+0200
TZOFFSETTO:+0100
TZNAME:CET
DTSTART:20251026T010000
END:STANDARD
END:VTIMEZONE
BEGIN:VEVENT
DTSTART;TZID=Europe/Paris:20250406T100000
DTEND;TZID=Europe/Paris:20250406T100000
DTSTAMP:20260421T112736
CREATED:20250324T152216Z
LAST-MODIFIED:20250324T152557Z
UID:32054-1743933600-1743933600@www.ville-molay-littry.fr
SUMMARY:Rassemblement MVP
DESCRIPTION:Cliquez sur l’affiche ci-dessous
URL:https://www.ville-molay-littry.fr/evenement/rassemblement-mvp/
LOCATION:Place du Module\, Place du Marché\, LE MOLAY-LITTRY\, 14330
CATEGORIES:Associations
ATTACH;FMTTYPE=image/jpeg:https://www.ville-molay-littry.fr/wp-content/uploads/2021/09/MOLY-VEHICULES-PASSION.jpg
END:VEVENT
END:VCALENDAR