BEGIN:VCALENDAR
VERSION:2.0
PRODID:-//Le Molay-Littry - ECPv5.16.4.1//NONSGML v1.0//EN
CALSCALE:GREGORIAN
METHOD:PUBLISH
X-WR-CALNAME:Le Molay-Littry
X-ORIGINAL-URL:https://www.ville-molay-littry.fr
X-WR-CALDESC:Évènements pour Le Molay-Littry
BEGIN:VTIMEZONE
TZID:Europe/Paris
BEGIN:DAYLIGHT
TZOFFSETFROM:+0100
TZOFFSETTO:+0200
TZNAME:CEST
DTSTART:20200329T010000
END:DAYLIGHT
BEGIN:STANDARD
TZOFFSETFROM:+0200
TZOFFSETTO:+0100
TZNAME:CET
DTSTART:20201025T010000
END:STANDARD
END:VTIMEZONE
BEGIN:VEVENT
DTSTART;TZID=Europe/Paris:20200913T100000
DTEND;TZID=Europe/Paris:20200913T130000
DTSTAMP:20260421T101004
CREATED:20200805T150818Z
LAST-MODIFIED:20200820T121853Z
UID:7935-1599991200-1600002000@www.ville-molay-littry.fr
SUMMARY:Rassemblement de véhicules anciens
DESCRIPTION:
URL:https://www.ville-molay-littry.fr/evenement/rassemblement-de-vehicules-anciens/
LOCATION:Place du Marché\, LE MOLAY-LITTRY\, France
CATEGORIES:Associations
ATTACH;FMTTYPE=image/jpeg:https://www.ville-molay-littry.fr/wp-content/uploads/2020/08/Vignette_MVP_2020_07_26.jpg
END:VEVENT
END:VCALENDAR