BEGIN:VCALENDAR
VERSION:2.0
PRODID:-//Le Molay-Littry - ECPv5.16.4.1//NONSGML v1.0//EN
CALSCALE:GREGORIAN
METHOD:PUBLISH
X-WR-CALNAME:Le Molay-Littry
X-ORIGINAL-URL:https://www.ville-molay-littry.fr
X-WR-CALDESC:Évènements pour Le Molay-Littry
BEGIN:VTIMEZONE
TZID:Europe/Paris
BEGIN:DAYLIGHT
TZOFFSETFROM:+0100
TZOFFSETTO:+0200
TZNAME:CEST
DTSTART:20220327T010000
END:DAYLIGHT
BEGIN:STANDARD
TZOFFSETFROM:+0200
TZOFFSETTO:+0100
TZNAME:CET
DTSTART:20221030T010000
END:STANDARD
END:VTIMEZONE
BEGIN:VEVENT
DTSTART;TZID=Europe/Paris:20220615T153000
DTEND;TZID=Europe/Paris:20220615T190000
DTSTAMP:20260424T105317
CREATED:20220530T211534Z
LAST-MODIFIED:20220530T211534Z
UID:14441-1655307000-1655319600@www.ville-molay-littry.fr
SUMMARY:Porte ouverte Judo & Taïso
DESCRIPTION:Porte ouverte  Judo  &  Taïso \nOuvert à tous \n  \nLes mercredis 1er\, 8\, 15 et 22 juin 2022 \nAu gymnase du Molay-Littry \n  \nEVEIL-JUDO enfants né(es) en 2016-2017 de 16h30 à 17h15 \nJUDO ENFANTS né(es) en 2015-2014-2013-2012 de 15h30 à 16h30 \nJUDO ENFANTS né(es) en 2011 et AVANT de 17h15 à 18h15 \n18h15 à 19h15 : le Taïso (ados-adultes) \n\nProfesseur : Isabelle FÉREY \n 07-66-17-35-97
URL:https://www.ville-molay-littry.fr/evenement/porte-ouverte-judo-taiso-3/
LOCATION:Gymnase du Molay-Littry\, 20 Rue Fosse Frandemiche\, LE MOLAY-LITTRY
CATEGORIES:Associations,sport
ATTACH;FMTTYPE=image/png:https://www.ville-molay-littry.fr/wp-content/uploads/2020/08/vignette_Taïso.png
END:VEVENT
END:VCALENDAR