BEGIN:VCALENDAR
VERSION:2.0
PRODID:-//Le Molay-Littry - ECPv5.16.4.1//NONSGML v1.0//EN
CALSCALE:GREGORIAN
METHOD:PUBLISH
X-WR-CALNAME:Le Molay-Littry
X-ORIGINAL-URL:https://www.ville-molay-littry.fr
X-WR-CALDESC:Évènements pour Le Molay-Littry
BEGIN:VTIMEZONE
TZID:Europe/Paris
BEGIN:DAYLIGHT
TZOFFSETFROM:+0100
TZOFFSETTO:+0200
TZNAME:CEST
DTSTART:20230326T010000
END:DAYLIGHT
BEGIN:STANDARD
TZOFFSETFROM:+0200
TZOFFSETTO:+0100
TZNAME:CET
DTSTART:20231029T010000
END:STANDARD
END:VTIMEZONE
BEGIN:VEVENT
DTSTART;TZID=Europe/Paris:20230927T090000
DTEND;TZID=Europe/Paris:20230927T110000
DTSTAMP:20260421T101320
CREATED:20230918T152028Z
LAST-MODIFIED:20230918T152028Z
UID:19136-1695805200-1695812400@www.ville-molay-littry.fr
SUMMARY:Permanences Finances Publiques
DESCRIPTION:
URL:https://www.ville-molay-littry.fr/evenement/permanences-finances-publiques/
LOCATION:Maison France Services\, Annexe Mairie\, LE MOLAY-LTTRY\, 14330
ATTACH;FMTTYPE=image/jpeg:https://www.ville-molay-littry.fr/wp-content/uploads/2021/09/logo-point-info-14-240_5-1.jpg
END:VEVENT
END:VCALENDAR