BEGIN:VCALENDAR
VERSION:2.0
PRODID:-//Le Molay-Littry - ECPv5.16.4.1//NONSGML v1.0//EN
CALSCALE:GREGORIAN
METHOD:PUBLISH
X-WR-CALNAME:Le Molay-Littry
X-ORIGINAL-URL:https://www.ville-molay-littry.fr
X-WR-CALDESC:Évènements pour Le Molay-Littry
BEGIN:VTIMEZONE
TZID:Europe/Paris
BEGIN:DAYLIGHT
TZOFFSETFROM:+0100
TZOFFSETTO:+0200
TZNAME:CEST
DTSTART:20230326T010000
END:DAYLIGHT
BEGIN:STANDARD
TZOFFSETFROM:+0200
TZOFFSETTO:+0100
TZNAME:CET
DTSTART:20231029T010000
END:STANDARD
END:VTIMEZONE
BEGIN:VEVENT
DTSTART;TZID=Europe/Paris:20231122T181500
DTEND;TZID=Europe/Paris:20231122T191500
DTSTAMP:20260423T082301
CREATED:20231119T203214Z
LAST-MODIFIED:20231119T203214Z
UID:20021-1700676900-1700680500@www.ville-molay-littry.fr
SUMMARY:Movember au Taïso
DESCRIPTION:Le mouvement de sensibilisation à la santé des hommes. \nVenez bouger au taïso. Séance gratuite dans le cadre de Movember. \nVenez avec ou sans moustache.
URL:https://www.ville-molay-littry.fr/evenement/movember-au-taiso/
LOCATION:Gymnase du Molay-Littry\, 20 Rue Fosse Frandemiche\, LE MOLAY-LITTRY
CATEGORIES:Associations,sport
ATTACH;FMTTYPE=image/jpeg:https://www.ville-molay-littry.fr/wp-content/uploads/2023/10/Movember_JCML_2023.jpg
END:VEVENT
END:VCALENDAR