BEGIN:VCALENDAR
VERSION:2.0
PRODID:-//Le Molay-Littry - ECPv5.16.4.1//NONSGML v1.0//EN
CALSCALE:GREGORIAN
METHOD:PUBLISH
X-WR-CALNAME:Le Molay-Littry
X-ORIGINAL-URL:https://www.ville-molay-littry.fr
X-WR-CALDESC:Évènements pour Le Molay-Littry
BEGIN:VTIMEZONE
TZID:Europe/Paris
BEGIN:DAYLIGHT
TZOFFSETFROM:+0100
TZOFFSETTO:+0200
TZNAME:CEST
DTSTART:20250330T010000
END:DAYLIGHT
BEGIN:STANDARD
TZOFFSETFROM:+0200
TZOFFSETTO:+0100
TZNAME:CET
DTSTART:20251026T010000
END:STANDARD
END:VTIMEZONE
BEGIN:VEVENT
DTSTART;TZID=Europe/Paris:20251129T140000
DTEND;TZID=Europe/Paris:20251129T173000
DTSTAMP:20260424T145716
CREATED:20251120T140223Z
LAST-MODIFIED:20251120T140241Z
UID:34222-1764424800-1764437400@www.ville-molay-littry.fr
SUMMARY:Marché de Noël à la Résidence Harmonie
DESCRIPTION:Marché de Noël à la résidence avec la venue de Miss Élégance 2025
URL:https://www.ville-molay-littry.fr/evenement/marche-de-noel-a-la-residence-harmonie-2/
LOCATION:Résidence Harmonie\, Route de Tournières Résidence Harmonie\, LE MOLAY-LITTRY\, 14330\, France
ATTACH;FMTTYPE=image/png:https://www.ville-molay-littry.fr/wp-content/uploads/2021/09/Res.-Harmonie.png
END:VEVENT
END:VCALENDAR