BEGIN:VCALENDAR
VERSION:2.0
PRODID:-//Le Molay-Littry - ECPv5.16.4.1//NONSGML v1.0//EN
CALSCALE:GREGORIAN
METHOD:PUBLISH
X-WR-CALNAME:Le Molay-Littry
X-ORIGINAL-URL:https://www.ville-molay-littry.fr
X-WR-CALDESC:Évènements pour Le Molay-Littry
BEGIN:VTIMEZONE
TZID:Europe/Paris
BEGIN:DAYLIGHT
TZOFFSETFROM:+0100
TZOFFSETTO:+0200
TZNAME:CEST
DTSTART:20260329T010000
END:DAYLIGHT
BEGIN:STANDARD
TZOFFSETFROM:+0200
TZOFFSETTO:+0100
TZNAME:CET
DTSTART:20261025T010000
END:STANDARD
END:VTIMEZONE
BEGIN:VEVENT
DTSTART;TZID=Europe/Paris:20260131T203000
DTEND;TZID=Europe/Paris:20260131T203000
DTSTAMP:20260422T151836
CREATED:20251229T132234Z
LAST-MODIFIED:20251229T132704Z
UID:34496-1769891400-1769891400@www.ville-molay-littry.fr
SUMMARY:Loto
DESCRIPTION:
URL:https://www.ville-molay-littry.fr/evenement/loto-9/
LOCATION:salle de fêtes
CATEGORIES:Associations
ATTACH;FMTTYPE=image/jpeg:https://www.ville-molay-littry.fr/wp-content/uploads/2018/06/football.jpg
END:VEVENT
END:VCALENDAR