BEGIN:VCALENDAR
VERSION:2.0
PRODID:-//Le Molay-Littry - ECPv5.16.4.1//NONSGML v1.0//EN
CALSCALE:GREGORIAN
METHOD:PUBLISH
X-WR-CALNAME:Le Molay-Littry
X-ORIGINAL-URL:https://www.ville-molay-littry.fr
X-WR-CALDESC:Évènements pour Le Molay-Littry
BEGIN:VTIMEZONE
TZID:Europe/Paris
BEGIN:DAYLIGHT
TZOFFSETFROM:+0100
TZOFFSETTO:+0200
TZNAME:CEST
DTSTART:20250330T010000
END:DAYLIGHT
BEGIN:STANDARD
TZOFFSETFROM:+0200
TZOFFSETTO:+0100
TZNAME:CET
DTSTART:20251026T010000
END:STANDARD
END:VTIMEZONE
BEGIN:VEVENT
DTSTART;VALUE=DATE:20250322
DTEND;VALUE=DATE:20250323
DTSTAMP:20260420T101638
CREATED:20250116T151705Z
LAST-MODIFIED:20250116T151705Z
UID:24699-1742601600-1742687999@www.ville-molay-littry.fr
SUMMARY:Les Compagnons du Devoir
DESCRIPTION:Journées portes ouvertes pour en savoir plus cliquez sur l’affiche et scannez le QR Code \n 
URL:https://www.ville-molay-littry.fr/evenement/les-compagnons-du-devoir-2/
ATTACH;FMTTYPE=image/jpeg:https://www.ville-molay-littry.fr/wp-content/uploads/2025/01/Compagnons-du-devoir.jpg
END:VEVENT
END:VCALENDAR