BEGIN:VCALENDAR
VERSION:2.0
PRODID:-//Le Molay-Littry - ECPv5.16.4.1//NONSGML v1.0//EN
CALSCALE:GREGORIAN
METHOD:PUBLISH
X-WR-CALNAME:Le Molay-Littry
X-ORIGINAL-URL:https://www.ville-molay-littry.fr
X-WR-CALDESC:Évènements pour Le Molay-Littry
BEGIN:VTIMEZONE
TZID:Europe/Paris
BEGIN:DAYLIGHT
TZOFFSETFROM:+0100
TZOFFSETTO:+0200
TZNAME:CEST
DTSTART:20250330T010000
END:DAYLIGHT
BEGIN:STANDARD
TZOFFSETFROM:+0200
TZOFFSETTO:+0100
TZNAME:CET
DTSTART:20251026T010000
END:STANDARD
END:VTIMEZONE
BEGIN:VEVENT
DTSTART;TZID=Europe/Paris:20251115T203000
DTEND;TZID=Europe/Paris:20251115T223000
DTSTAMP:20260424T151751
CREATED:20250908T142348Z
LAST-MODIFIED:20250908T142624Z
UID:33590-1763238600-1763245800@www.ville-molay-littry.fr
SUMMARY:La France Empire
DESCRIPTION:
URL:https://www.ville-molay-littry.fr/evenement/la-france-empire/
LOCATION:salle des fêtes\, LE MOLAY LITTRY\, 14330
CATEGORIES:Spectacles
ATTACH;FMTTYPE=image/png:https://www.ville-molay-littry.fr/wp-content/uploads/2021/06/Vignette_IsignyOmahaIntercom.png
END:VEVENT
END:VCALENDAR