BEGIN:VCALENDAR
VERSION:2.0
PRODID:-//Le Molay-Littry - ECPv5.16.4.1//NONSGML v1.0//EN
CALSCALE:GREGORIAN
METHOD:PUBLISH
X-WR-CALNAME:Le Molay-Littry
X-ORIGINAL-URL:https://www.ville-molay-littry.fr
X-WR-CALDESC:Évènements pour Le Molay-Littry
BEGIN:VTIMEZONE
TZID:Europe/Paris
BEGIN:DAYLIGHT
TZOFFSETFROM:+0100
TZOFFSETTO:+0200
TZNAME:CEST
DTSTART:20240331T010000
END:DAYLIGHT
BEGIN:STANDARD
TZOFFSETFROM:+0200
TZOFFSETTO:+0100
TZNAME:CET
DTSTART:20241027T010000
END:STANDARD
END:VTIMEZONE
BEGIN:VEVENT
DTSTART;TZID=Europe/Paris:20240419T203000
DTEND;TZID=Europe/Paris:20240419T203000
DTSTAMP:20260426T050708
CREATED:20240329T160537Z
LAST-MODIFIED:20240329T160537Z
UID:21779-1713558600-1713558600@www.ville-molay-littry.fr
SUMMARY:Humour\, théâtre d'improvisation
DESCRIPTION:
URL:https://www.ville-molay-littry.fr/evenement/humour-theatre-dimprovisation/
LOCATION:salle des fêtes\, LE MOLAY LITTRY\, 14330
CATEGORIES:Spectacles
ATTACH;FMTTYPE=image/jpeg:https://www.ville-molay-littry.fr/wp-content/uploads/2024/03/Theatre-impro-2024_04_19.jpg
END:VEVENT
END:VCALENDAR