BEGIN:VCALENDAR
VERSION:2.0
PRODID:-//Le Molay-Littry - ECPv5.16.4.1//NONSGML v1.0//EN
CALSCALE:GREGORIAN
METHOD:PUBLISH
X-WR-CALNAME:Le Molay-Littry
X-ORIGINAL-URL:https://www.ville-molay-littry.fr
X-WR-CALDESC:Évènements pour Le Molay-Littry
BEGIN:VTIMEZONE
TZID:Europe/Paris
BEGIN:DAYLIGHT
TZOFFSETFROM:+0100
TZOFFSETTO:+0200
TZNAME:CEST
DTSTART:20250330T010000
END:DAYLIGHT
BEGIN:STANDARD
TZOFFSETFROM:+0200
TZOFFSETTO:+0100
TZNAME:CET
DTSTART:20251026T010000
END:STANDARD
END:VTIMEZONE
BEGIN:VEVENT
DTSTART;TZID=Europe/Paris:20251031T204500
DTEND;TZID=Europe/Paris:20251031T204500
DTSTAMP:20260424T152149
CREATED:20251030T131130Z
LAST-MODIFIED:20251030T133520Z
UID:34047-1761943500-1761943500@www.ville-molay-littry.fr
SUMMARY:Foyer rural Cinéma
DESCRIPTION:
URL:https://www.ville-molay-littry.fr/evenement/foyer-rural-cinema/
LOCATION:salle de fêtes
CATEGORIES:Cinéma
ATTACH;FMTTYPE=image/jpeg:https://www.ville-molay-littry.fr/wp-content/uploads/2017/09/vignette_cinéma.jpg
ORGANIZER;CN="Foyer%20Rural":MAILTO:foyer-rural-littry@laposte.net
END:VEVENT
END:VCALENDAR