BEGIN:VCALENDAR
VERSION:2.0
PRODID:-//Le Molay-Littry - ECPv5.16.4.1//NONSGML v1.0//EN
CALSCALE:GREGORIAN
METHOD:PUBLISH
X-WR-CALNAME:Le Molay-Littry
X-ORIGINAL-URL:https://www.ville-molay-littry.fr
X-WR-CALDESC:Évènements pour Le Molay-Littry
BEGIN:VTIMEZONE
TZID:Europe/Paris
BEGIN:DAYLIGHT
TZOFFSETFROM:+0100
TZOFFSETTO:+0200
TZNAME:CEST
DTSTART:20260329T010000
END:DAYLIGHT
BEGIN:STANDARD
TZOFFSETFROM:+0200
TZOFFSETTO:+0100
TZNAME:CET
DTSTART:20261025T010000
END:STANDARD
END:VTIMEZONE
BEGIN:VEVENT
DTSTART;TZID=Europe/Paris:20260521T153000
DTEND;TZID=Europe/Paris:20260521T190000
DTSTAMP:20260419T154050
CREATED:20260416T141616Z
LAST-MODIFIED:20260416T141632Z
UID:35453-1779377400-1779390000@www.ville-molay-littry.fr
SUMMARY:Don du Sang
DESCRIPTION:  
URL:https://www.ville-molay-littry.fr/evenement/don-du-sang-17/
LOCATION:salle des fêtes\, LE MOLAY LITTRY\, 14330
ATTACH;FMTTYPE=image/png:https://www.ville-molay-littry.fr/wp-content/uploads/2017/08/DonDeSang_vignette.png
END:VEVENT
END:VCALENDAR