BEGIN:VCALENDAR
VERSION:2.0
PRODID:-//Le Molay-Littry - ECPv5.16.4.1//NONSGML v1.0//EN
CALSCALE:GREGORIAN
METHOD:PUBLISH
X-WR-CALNAME:Le Molay-Littry
X-ORIGINAL-URL:https://www.ville-molay-littry.fr
X-WR-CALDESC:Évènements pour Le Molay-Littry
BEGIN:VTIMEZONE
TZID:Europe/Paris
BEGIN:DAYLIGHT
TZOFFSETFROM:+0100
TZOFFSETTO:+0200
TZNAME:CEST
DTSTART:20250330T010000
END:DAYLIGHT
BEGIN:STANDARD
TZOFFSETFROM:+0200
TZOFFSETTO:+0100
TZNAME:CET
DTSTART:20251026T010000
END:STANDARD
END:VTIMEZONE
BEGIN:VEVENT
DTSTART;TZID=Europe/Paris:20251130T153000
DTEND;TZID=Europe/Paris:20251130T153000
DTSTAMP:20260424T145419
CREATED:20251030T124935Z
LAST-MODIFIED:20251030T125015Z
UID:34039-1764516600-1764516600@www.ville-molay-littry.fr
SUMMARY:Concert Sainte Cécile
DESCRIPTION:
URL:https://www.ville-molay-littry.fr/evenement/concert-sainte-cecile-4/
LOCATION:salle des fêtes\, LE MOLAY LITTRY\, 14330
CATEGORIES:Spectacles
ATTACH;FMTTYPE=image/jpeg:https://www.ville-molay-littry.fr/wp-content/uploads/2021/05/Ecole-musique.jpg
END:VEVENT
END:VCALENDAR