BEGIN:VCALENDAR
VERSION:2.0
PRODID:-//Le Molay-Littry - ECPv5.16.4.1//NONSGML v1.0//EN
CALSCALE:GREGORIAN
METHOD:PUBLISH
X-WR-CALNAME:Le Molay-Littry
X-ORIGINAL-URL:https://www.ville-molay-littry.fr
X-WR-CALDESC:Évènements pour Le Molay-Littry
BEGIN:VTIMEZONE
TZID:Europe/Paris
BEGIN:DAYLIGHT
TZOFFSETFROM:+0100
TZOFFSETTO:+0200
TZNAME:CEST
DTSTART:20260329T010000
END:DAYLIGHT
BEGIN:STANDARD
TZOFFSETFROM:+0200
TZOFFSETTO:+0100
TZNAME:CET
DTSTART:20261025T010000
END:STANDARD
END:VTIMEZONE
BEGIN:VEVENT
DTSTART;TZID=Europe/Paris:20260508T170000
DTEND;TZID=Europe/Paris:20260508T170000
DTSTAMP:20260419T173119
CREATED:20260416T142516Z
LAST-MODIFIED:20260416T142530Z
UID:35464-1778259600-1778259600@www.ville-molay-littry.fr
SUMMARY:Concert de printemps
DESCRIPTION:
URL:https://www.ville-molay-littry.fr/evenement/concert-de-printemps-2/
LOCATION:Salle des Fêtes
CATEGORIES:Spectacles
ATTACH;FMTTYPE=image/png:https://www.ville-molay-littry.fr/wp-content/uploads/2021/11/philha.png
END:VEVENT
END:VCALENDAR