BEGIN:VCALENDAR
VERSION:2.0
PRODID:-//Le Molay-Littry - ECPv5.16.4.1//NONSGML v1.0//EN
CALSCALE:GREGORIAN
METHOD:PUBLISH
X-WR-CALNAME:Le Molay-Littry
X-ORIGINAL-URL:https://www.ville-molay-littry.fr
X-WR-CALDESC:Évènements pour Le Molay-Littry
BEGIN:VTIMEZONE
TZID:Europe/Paris
BEGIN:DAYLIGHT
TZOFFSETFROM:+0100
TZOFFSETTO:+0200
TZNAME:CEST
DTSTART:20260329T010000
END:DAYLIGHT
BEGIN:STANDARD
TZOFFSETFROM:+0200
TZOFFSETTO:+0100
TZNAME:CET
DTSTART:20261025T010000
END:STANDARD
END:VTIMEZONE
BEGIN:VEVENT
DTSTART;TZID=Europe/Paris:20260130T170000
DTEND;TZID=Europe/Paris:20260130T190000
DTSTAMP:20260422T152001
CREATED:20260108T132851Z
LAST-MODIFIED:20260108T132920Z
UID:34591-1769792400-1769799600@www.ville-molay-littry.fr
SUMMARY:Collège Portes Ouvertes
DESCRIPTION:
URL:https://www.ville-molay-littry.fr/evenement/college-portes-ouvertes/
LOCATION:Collège de la Mine\, 5 rue de la Fosse Frandemiche\, LE MOLAY-LITTRY\, 14330\, France
ORGANIZER;CN="Coll%C3%A8ge%20de%20la%20mine":MAILTO:ce.0141642J@ac-caen
END:VEVENT
END:VCALENDAR