BEGIN:VCALENDAR
VERSION:2.0
PRODID:-//Le Molay-Littry - ECPv5.16.4.1//NONSGML v1.0//EN
CALSCALE:GREGORIAN
METHOD:PUBLISH
X-WR-CALNAME:Le Molay-Littry
X-ORIGINAL-URL:https://www.ville-molay-littry.fr
X-WR-CALDESC:Évènements pour Le Molay-Littry
BEGIN:VTIMEZONE
TZID:Europe/Paris
BEGIN:DAYLIGHT
TZOFFSETFROM:+0100
TZOFFSETTO:+0200
TZNAME:CEST
DTSTART:20260329T010000
END:DAYLIGHT
BEGIN:STANDARD
TZOFFSETFROM:+0200
TZOFFSETTO:+0100
TZNAME:CET
DTSTART:20261025T010000
END:STANDARD
END:VTIMEZONE
BEGIN:VEVENT
DTSTART;TZID=Europe/Paris:20260130T204500
DTEND;TZID=Europe/Paris:20260130T204500
DTSTAMP:20260422T152059
CREATED:20260112T152505Z
LAST-MODIFIED:20260112T152551Z
UID:34610-1769805900-1769805900@www.ville-molay-littry.fr
SUMMARY:Cinéma
DESCRIPTION:Cinéma à la salle des fêtes le vendredi 30 janvier 2026 à 20 h 45
URL:https://www.ville-molay-littry.fr/evenement/cinema-9/
LOCATION:salle de fêtes
CATEGORIES:Cinéma
ATTACH;FMTTYPE=image/jpeg:https://www.ville-molay-littry.fr/wp-content/uploads/2017/09/vignette_cinéma.jpg
ORGANIZER;CN="Foyer%20Rural":MAILTO:foyer-rural-littry@laposte.net
END:VEVENT
END:VCALENDAR