BEGIN:VCALENDAR
VERSION:2.0
PRODID:-//Le Molay-Littry - ECPv5.16.4.1//NONSGML v1.0//EN
CALSCALE:GREGORIAN
METHOD:PUBLISH
X-WR-CALNAME:Le Molay-Littry
X-ORIGINAL-URL:https://www.ville-molay-littry.fr
X-WR-CALDESC:Évènements pour Le Molay-Littry
BEGIN:VTIMEZONE
TZID:Europe/Paris
BEGIN:DAYLIGHT
TZOFFSETFROM:+0100
TZOFFSETTO:+0200
TZNAME:CEST
DTSTART:20250330T010000
END:DAYLIGHT
BEGIN:STANDARD
TZOFFSETFROM:+0200
TZOFFSETTO:+0100
TZNAME:CET
DTSTART:20251026T010000
END:STANDARD
END:VTIMEZONE
BEGIN:VEVENT
DTSTART;TZID=Europe/Paris:20250421T110000
DTEND;TZID=Europe/Paris:20250421T160000
DTSTAMP:20260425T020721
CREATED:20250328T131315Z
LAST-MODIFIED:20250328T160047Z
UID:32108-1745233200-1745251200@www.ville-molay-littry.fr
SUMMARY:Chasse aux œufs de Pâques
DESCRIPTION:Le Conseil Municipal des Jeunes organise une chasse aux oeufs \nau Moulin de Marcy \nLe 21 avril 2025 \nCliquez sur l’affiche ci-dessous
URL:https://www.ville-molay-littry.fr/evenement/chasse-aux-oeufs-de-paques/
LOCATION:Moulin de Marcy\, Moulin de Marcy\, LE MOLAY-LITTRY\, 14330\, France
ATTACH;FMTTYPE=image/jpeg:https://www.ville-molay-littry.fr/wp-content/uploads/2023/03/CHASSE-AUX-OEUFS-2023_04_10-VIGNETTE.jpg
END:VEVENT
END:VCALENDAR