BEGIN:VCALENDAR
VERSION:2.0
PRODID:-//Le Molay-Littry - ECPv5.16.4.1//NONSGML v1.0//EN
CALSCALE:GREGORIAN
METHOD:PUBLISH
X-WR-CALNAME:Le Molay-Littry
X-ORIGINAL-URL:https://www.ville-molay-littry.fr
X-WR-CALDESC:Évènements pour Le Molay-Littry
BEGIN:VTIMEZONE
TZID:Europe/Paris
BEGIN:DAYLIGHT
TZOFFSETFROM:+0100
TZOFFSETTO:+0200
TZNAME:CEST
DTSTART:20240331T010000
END:DAYLIGHT
BEGIN:STANDARD
TZOFFSETFROM:+0200
TZOFFSETTO:+0100
TZNAME:CET
DTSTART:20241027T010000
END:STANDARD
END:VTIMEZONE
BEGIN:VEVENT
DTSTART;TZID=Europe/Paris:20240112T200000
DTEND;TZID=Europe/Paris:20240112T200000
DTSTAMP:20260421T105944
CREATED:20240105T144502Z
LAST-MODIFIED:20240105T144627Z
UID:20507-1705089600-1705089600@www.ville-molay-littry.fr
SUMMARY:Cérémonie des voeux
DESCRIPTION:La cérémonie des vœux aura lieu le vendredi 12 janvier 2024 à 20 h 00 \nCliquez sur le lien : Carte voeux 2024
URL:https://www.ville-molay-littry.fr/evenement/ceremonie-des-voeux-2/
LOCATION:salle des fêtes\, LE MOLAY LITTRY\, 14330
ATTACH;FMTTYPE=image/jpeg:https://www.ville-molay-littry.fr/wp-content/uploads/2024/01/voeux-du-maire.jpg
END:VEVENT
END:VCALENDAR